BEGIN:VCALENDAR
VERSION:2.0
PRODID:-//SafeQuest Solano - ECPv6.15.20//NONSGML v1.0//EN
CALSCALE:GREGORIAN
METHOD:PUBLISH
X-ORIGINAL-URL:https://www.safequestsolano.org
X-WR-CALDESC:Events for SafeQuest Solano
REFRESH-INTERVAL;VALUE=DURATION:PT1H
X-Robots-Tag:noindex
X-PUBLISHED-TTL:PT1H
BEGIN:VTIMEZONE
TZID:America/Los_Angeles
BEGIN:DAYLIGHT
TZOFFSETFROM:-0800
TZOFFSETTO:-0700
TZNAME:PDT
DTSTART:20230312T100000
END:DAYLIGHT
BEGIN:STANDARD
TZOFFSETFROM:-0700
TZOFFSETTO:-0800
TZNAME:PST
DTSTART:20231105T090000
END:STANDARD
BEGIN:DAYLIGHT
TZOFFSETFROM:-0800
TZOFFSETTO:-0700
TZNAME:PDT
DTSTART:20240310T100000
END:DAYLIGHT
BEGIN:STANDARD
TZOFFSETFROM:-0700
TZOFFSETTO:-0800
TZNAME:PST
DTSTART:20241103T090000
END:STANDARD
BEGIN:DAYLIGHT
TZOFFSETFROM:-0800
TZOFFSETTO:-0700
TZNAME:PDT
DTSTART:20250309T100000
END:DAYLIGHT
BEGIN:STANDARD
TZOFFSETFROM:-0700
TZOFFSETTO:-0800
TZNAME:PST
DTSTART:20251102T090000
END:STANDARD
END:VTIMEZONE
BEGIN:VEVENT
DTSTART;TZID=America/Los_Angeles:20241214T140000
DTEND;TZID=America/Los_Angeles:20241214T160000
DTSTAMP:20260421T130555
CREATED:20241204T185607Z
LAST-MODIFIED:20241204T185744Z
UID:10000012-1734184800-1734192000@www.safequestsolano.org
SUMMARY:Children's Christmas Party
DESCRIPTION:Join us for free presents\, light refreshments\, and pictures with Santa as we celebrate children of families experiencing domestic violence.
URL:https://www.safequestsolano.org/event/childrens-christmas-party/
LOCATION:Solano Innovation Center\, 220 Campus Lane\, Fairfield\, CA\, 94533
END:VEVENT
END:VCALENDAR