BEGIN:VCALENDAR
VERSION:2.0
PRODID:-//SafeQuest Solano - ECPv6.15.20//NONSGML v1.0//EN
CALSCALE:GREGORIAN
METHOD:PUBLISH
X-WR-CALNAME:SafeQuest Solano
X-ORIGINAL-URL:https://www.safequestsolano.org
X-WR-CALDESC:Events for SafeQuest Solano
REFRESH-INTERVAL;VALUE=DURATION:PT1H
X-Robots-Tag:noindex
X-PUBLISHED-TTL:PT1H
BEGIN:VTIMEZONE
TZID:America/Los_Angeles
BEGIN:DAYLIGHT
TZOFFSETFROM:-0800
TZOFFSETTO:-0700
TZNAME:PDT
DTSTART:20230312T100000
END:DAYLIGHT
BEGIN:STANDARD
TZOFFSETFROM:-0700
TZOFFSETTO:-0800
TZNAME:PST
DTSTART:20231105T090000
END:STANDARD
BEGIN:DAYLIGHT
TZOFFSETFROM:-0800
TZOFFSETTO:-0700
TZNAME:PDT
DTSTART:20240310T100000
END:DAYLIGHT
BEGIN:STANDARD
TZOFFSETFROM:-0700
TZOFFSETTO:-0800
TZNAME:PST
DTSTART:20241103T090000
END:STANDARD
BEGIN:DAYLIGHT
TZOFFSETFROM:-0800
TZOFFSETTO:-0700
TZNAME:PDT
DTSTART:20250309T100000
END:DAYLIGHT
BEGIN:STANDARD
TZOFFSETFROM:-0700
TZOFFSETTO:-0800
TZNAME:PST
DTSTART:20251102T090000
END:STANDARD
END:VTIMEZONE
BEGIN:VEVENT
DTSTART;TZID=America/Los_Angeles:20240630T160000
DTEND;TZID=America/Los_Angeles:20240630T190000
DTSTAMP:20260421T221039
CREATED:20240517T201744Z
LAST-MODIFIED:20240619T213411Z
UID:10000011-1719763200-1719774000@www.safequestsolano.org
SUMMARY:Breaking Chains: A Fashion Show for Domestic Violence Survivors
DESCRIPTION:
URL:https://www.safequestsolano.org/event/breaking-chains-a-fashion-show-for-domestic-violence-survivors/
LOCATION:Volkswagon of Fairfield\, 2855 Auto Mall Parkway\, Fairfield\, CA\, 94533\, United States
ATTACH;FMTTYPE=image/jpeg:https://www.safequestsolano.org/wp-content/uploads/2024/05/public.jpg
ORGANIZER;CN="SafeQuest Solano":MAILTO:hr@safequestsolano.org
END:VEVENT
END:VCALENDAR